BEGIN:VCALENDAR
VERSION:2.0
PRODID:http://www.pfarrei-quierschied.de
BEGIN:VEVENT
UID:9f40553f-4054-11f1-a3e9-0242ac11002b-1785657600000-de
DTSTAMP:20260425T031241Z
DTSTART:20260802T080000Z
DTEND:20260802T090000Z
SUMMARY;LANGUAGE=de:Hochamt anl. des Dorffestes auf dem Dorfplatz Göttelborn
END:VEVENT
END:VCALENDAR
